
BEGIN:VCALENDAR
VERSION:2.0
PRODID:-//LEVE - ECPv6.15.17.1//NONSGML v1.0//EN
CALSCALE:GREGORIAN
METHOD:PUBLISH
X-WR-CALNAME:LEVE
X-ORIGINAL-URL:https://leve.no
X-WR-CALDESC:Arrangement for LEVE
REFRESH-INTERVAL;VALUE=DURATION:PT1H
X-Robots-Tag:noindex
X-PUBLISHED-TTL:PT1H
BEGIN:VTIMEZONE
TZID:Europe/Oslo
BEGIN:DAYLIGHT
TZOFFSETFROM:+0100
TZOFFSETTO:+0200
TZNAME:CEST
DTSTART:20240331T010000
END:DAYLIGHT
BEGIN:STANDARD
TZOFFSETFROM:+0200
TZOFFSETTO:+0100
TZNAME:CET
DTSTART:20241027T010000
END:STANDARD
BEGIN:DAYLIGHT
TZOFFSETFROM:+0100
TZOFFSETTO:+0200
TZNAME:CEST
DTSTART:20250330T010000
END:DAYLIGHT
BEGIN:STANDARD
TZOFFSETFROM:+0200
TZOFFSETTO:+0100
TZNAME:CET
DTSTART:20251026T010000
END:STANDARD
BEGIN:DAYLIGHT
TZOFFSETFROM:+0100
TZOFFSETTO:+0200
TZNAME:CEST
DTSTART:20260329T010000
END:DAYLIGHT
BEGIN:STANDARD
TZOFFSETFROM:+0200
TZOFFSETTO:+0100
TZNAME:CET
DTSTART:20261025T010000
END:STANDARD
END:VTIMEZONE
BEGIN:VEVENT
DTSTART;TZID=Europe/Oslo:20250910T183000
DTEND;TZID=Europe/Oslo:20250910T191000
DTSTAMP:20260420T145634
CREATED:20250908T132149Z
LAST-MODIFIED:20250908T132149Z
UID:10000920-1757529000-1757531400@leve.no
SUMMARY:Markering av Verdensdagen - Brumunddal
DESCRIPTION:Bli med oss på Markeringen av verdensdagen for selvmordsforebygging 2025\n«GÅ FOR Å LEVE» Vi går en tur sammen. Det vil bli satt opp 2 forskjellige runder.\nOppmøte: Biblioteket Brumunddal\, kl. 18.20\n\nVidere kan du bli med på følgende program:\n\n Lysmarkering utenfor Biblioteket\, kl. 19.10-19.30Vi tenner 56 lys for de vi mistet i selvmord i Innlandet i 2024\nForedrag\, kl. 19.45 – 20.30«Hvorfor skal vi snakke om selvmord”?\nTone Therese Haugen bor i Brumunddal og jobber til daglig i LEVE – Landsforeningen for etterlatte etter selvmord. Etter å ha mistet sin sønn i 2021 har hun engasjert seg som frivillig fylkeslags leder i LEVE Hedmark og bruker mye av sin tid på selvmordsforebyggende arbeid og sorgstøtte for etterlatte. Foredraget «Hvorfor skal vi snakke om selvmord» er ett av de mange foredragene Tone holder. Dette er foredraget er støttet og godkjent av Helsedirektoratet\n\nSpørsmål – åpent for samtaler\, kl. 20.30 – 21.00\n\nØnsker du å være medarrangør og ta med deg din “flokk” på markering?\nTa kontakt medTone Therese Haugen95215957
URL:https://leve.no/arrangement/markering-av-verdensdagen-brumunddal/
LOCATION:Biblioteket i Brumunddal\, Buttekvernvegen 3\, Brumunddal\, 2382
ATTACH;FMTTYPE=image/png:https://leve.no/wp-content/uploads/2025/08/verdensdagen-sloyfe.png
END:VEVENT
END:VCALENDAR