
BEGIN:VCALENDAR
VERSION:2.0
PRODID:-//LEVE - ECPv6.15.17.1//NONSGML v1.0//EN
CALSCALE:GREGORIAN
METHOD:PUBLISH
X-ORIGINAL-URL:https://leve.no
X-WR-CALDESC:Arrangement for LEVE
REFRESH-INTERVAL;VALUE=DURATION:PT1H
X-Robots-Tag:noindex
X-PUBLISHED-TTL:PT1H
BEGIN:VTIMEZONE
TZID:Europe/Oslo
BEGIN:DAYLIGHT
TZOFFSETFROM:+0100
TZOFFSETTO:+0200
TZNAME:CEST
DTSTART:20230326T010000
END:DAYLIGHT
BEGIN:STANDARD
TZOFFSETFROM:+0200
TZOFFSETTO:+0100
TZNAME:CET
DTSTART:20231029T010000
END:STANDARD
BEGIN:DAYLIGHT
TZOFFSETFROM:+0100
TZOFFSETTO:+0200
TZNAME:CEST
DTSTART:20240331T010000
END:DAYLIGHT
BEGIN:STANDARD
TZOFFSETFROM:+0200
TZOFFSETTO:+0100
TZNAME:CET
DTSTART:20241027T010000
END:STANDARD
BEGIN:DAYLIGHT
TZOFFSETFROM:+0100
TZOFFSETTO:+0200
TZNAME:CEST
DTSTART:20250330T010000
END:DAYLIGHT
BEGIN:STANDARD
TZOFFSETFROM:+0200
TZOFFSETTO:+0100
TZNAME:CET
DTSTART:20251026T010000
END:STANDARD
BEGIN:DAYLIGHT
TZOFFSETFROM:+0100
TZOFFSETTO:+0200
TZNAME:CEST
DTSTART:20260329T010000
END:DAYLIGHT
BEGIN:STANDARD
TZOFFSETFROM:+0200
TZOFFSETTO:+0100
TZNAME:CET
DTSTART:20261025T010000
END:STANDARD
BEGIN:DAYLIGHT
TZOFFSETFROM:+0100
TZOFFSETTO:+0200
TZNAME:CEST
DTSTART:20270328T010000
END:DAYLIGHT
BEGIN:STANDARD
TZOFFSETFROM:+0200
TZOFFSETTO:+0100
TZNAME:CET
DTSTART:20271031T010000
END:STANDARD
END:VTIMEZONE
BEGIN:VEVENT
DTSTART;TZID=Europe/Oslo:20260330T190000
DTEND;TZID=Europe/Oslo:20260330T210000
DTSTAMP:20260421T103741
CREATED:20260114T120054Z
LAST-MODIFIED:20260114T120054Z
UID:10001241-1774897200-1774904400@leve.no
SUMMARY:Café-kveld - Hadeland
DESCRIPTION:Vi i LEVE kjenner og forstår smerten du står i som etterlatt i den akutte og sjokkartede tiden rett etter hendelsen og fram til begravelsen. Og i de påfølgende dagene\, månedene og årene med sorg og savn etter den du mistet. Vi vet også at noen etterlatte kan oppleve at reaksjonene og smerten kommer først en god stund etter at selvmordet har skjedd. Uansett hvordan din situasjon er så er du alltid velkommen til oss – ta gjerne med deg en venn hvis du føler for det. \nVi ønsker å bruke vår erfaring som etterlatte til støtte og nytte for andre i samme situasjon. Vi har taushetsplikt\, og du kan være trygg på at det du forteller ikke blir fortalt videre. \nHar du spørsmål\, ta kontakt på: \nTelefon: 913 19 834 \nE-post: leveoppland@gmail.com
URL:https://leve.no/arrangement/cafe-kveld-hadeland-6/
LOCATION:Fontenehuset Hadeland\, Lidskjalvgutua 1\, Gran
ATTACH;FMTTYPE=image/png:https://leve.no/wp-content/uploads/2025/01/oppland-1.png
END:VEVENT
BEGIN:VEVENT
DTSTART;TZID=Europe/Oslo:20260223T190000
DTEND;TZID=Europe/Oslo:20260223T210000
DTSTAMP:20260421T103741
CREATED:20260114T120025Z
LAST-MODIFIED:20260114T120025Z
UID:10001240-1771873200-1771880400@leve.no
SUMMARY:Café-kveld - Hadeland
DESCRIPTION:Vi i LEVE kjenner og forstår smerten du står i som etterlatt i den akutte og sjokkartede tiden rett etter hendelsen og fram til begravelsen. Og i de påfølgende dagene\, månedene og årene med sorg og savn etter den du mistet. Vi vet også at noen etterlatte kan oppleve at reaksjonene og smerten kommer først en god stund etter at selvmordet har skjedd. Uansett hvordan din situasjon er så er du alltid velkommen til oss – ta gjerne med deg en venn hvis du føler for det. \nVi ønsker å bruke vår erfaring som etterlatte til støtte og nytte for andre i samme situasjon. Vi har taushetsplikt\, og du kan være trygg på at det du forteller ikke blir fortalt videre. \nHar du spørsmål\, ta kontakt på: \nTelefon: 913 19 834 \nE-post: leveoppland@gmail.com
URL:https://leve.no/arrangement/cafe-kveld-hadeland-5/
LOCATION:Fontenehuset Hadeland\, Lidskjalvgutua 1\, Gran
ATTACH;FMTTYPE=image/png:https://leve.no/wp-content/uploads/2025/01/oppland-1.png
END:VEVENT
BEGIN:VEVENT
DTSTART;TZID=Europe/Oslo:20260126T190000
DTEND;TZID=Europe/Oslo:20260126T210000
DTSTAMP:20260421T103741
CREATED:20260114T120001Z
LAST-MODIFIED:20260114T120001Z
UID:10001239-1769454000-1769461200@leve.no
SUMMARY:Café-kveld - Hadeland
DESCRIPTION:Vi i LEVE kjenner og forstår smerten du står i som etterlatt i den akutte og sjokkartede tiden rett etter hendelsen og fram til begravelsen. Og i de påfølgende dagene\, månedene og årene med sorg og savn etter den du mistet. Vi vet også at noen etterlatte kan oppleve at reaksjonene og smerten kommer først en god stund etter at selvmordet har skjedd. Uansett hvordan din situasjon er så er du alltid velkommen til oss – ta gjerne med deg en venn hvis du føler for det. \nVi ønsker å bruke vår erfaring som etterlatte til støtte og nytte for andre i samme situasjon. Vi har taushetsplikt\, og du kan være trygg på at det du forteller ikke blir fortalt videre. \nHar du spørsmål\, ta kontakt på: \nTelefon: 913 19 834 \nE-post: leveoppland@gmail.com
URL:https://leve.no/arrangement/cafe-kveld-hadeland-4/
LOCATION:Fontenehuset Hadeland\, Lidskjalvgutua 1\, Gran
ATTACH;FMTTYPE=image/png:https://leve.no/wp-content/uploads/2025/01/oppland-1.png
END:VEVENT
BEGIN:VEVENT
DTSTART;TZID=Europe/Oslo:20251124T190000
DTEND;TZID=Europe/Oslo:20251124T210000
DTSTAMP:20260421T103741
CREATED:20250818T140052Z
LAST-MODIFIED:20250818T140052Z
UID:10000879-1764010800-1764018000@leve.no
SUMMARY:Café LEVE - Gran
DESCRIPTION:Har du mistet noen i selvmord?\nLEVE inviterer til et åpent og uformelt treff der du kan møte andre i lignende situasjon. Uavhengig av om du har mistet en forelder\, søsken\, barn\, øvrige familiemedlemmer\, venner\, kollegaer eller en annen du sto nær så er du velkommen. Du trenger ikke dele noe du ikke vil – det viktigste er at du kommer som du er. \nArrangementet er gratis og åpent for alle – og ta gjerne med en venn eller støtteperson om du ønsker. Enkel servering.\nVelkommen!
URL:https://leve.no/arrangement/cafe-leve-gran-8/
LOCATION:Fontenehuset Hadeland\, Lidskjalvgutua 1\, Gran
ATTACH;FMTTYPE=image/jpeg:https://leve.no/wp-content/uploads/2025/07/514023512_1041819838076392_8136980598360987070_n.jpg
END:VEVENT
BEGIN:VEVENT
DTSTART;TZID=Europe/Oslo:20251027T190000
DTEND;TZID=Europe/Oslo:20251027T210000
DTSTAMP:20260421T103741
CREATED:20250818T140021Z
LAST-MODIFIED:20250818T140021Z
UID:10000878-1761591600-1761598800@leve.no
SUMMARY:Café LEVE - Gran
DESCRIPTION:Har du mistet noen i selvmord?\nLEVE inviterer til et åpent og uformelt treff der du kan møte andre i lignende situasjon. Uavhengig av om du har mistet en forelder\, søsken\, barn\, øvrige familiemedlemmer\, venner\, kollegaer eller en annen du sto nær så er du velkommen. Du trenger ikke dele noe du ikke vil – det viktigste er at du kommer som du er. \nArrangementet er gratis og åpent for alle – og ta gjerne med en venn eller støtteperson om du ønsker. Enkel servering.\nVelkommen!
URL:https://leve.no/arrangement/cafe-leve-gran-7/
LOCATION:Fontenehuset Hadeland\, Lidskjalvgutua 1\, Gran
ATTACH;FMTTYPE=image/jpeg:https://leve.no/wp-content/uploads/2025/07/514023512_1041819838076392_8136980598360987070_n.jpg
END:VEVENT
BEGIN:VEVENT
DTSTART;TZID=Europe/Oslo:20250929T190000
DTEND;TZID=Europe/Oslo:20250929T210000
DTSTAMP:20260421T103741
CREATED:20250818T135953Z
LAST-MODIFIED:20250818T135953Z
UID:10000877-1759172400-1759179600@leve.no
SUMMARY:Café LEVE - Gran
DESCRIPTION:Har du mistet noen i selvmord?\nLEVE inviterer til et åpent og uformelt treff der du kan møte andre i lignende situasjon. Uavhengig av om du har mistet en forelder\, søsken\, barn\, øvrige familiemedlemmer\, venner\, kollegaer eller en annen du sto nær så er du velkommen. Du trenger ikke dele noe du ikke vil – det viktigste er at du kommer som du er. \nArrangementet er gratis og åpent for alle – og ta gjerne med en venn eller støtteperson om du ønsker. Enkel servering.\nVelkommen!
URL:https://leve.no/arrangement/cafe-leve-gran-6/
LOCATION:Fontenehuset Hadeland\, Lidskjalvgutua 1\, Gran
ATTACH;FMTTYPE=image/jpeg:https://leve.no/wp-content/uploads/2025/07/514023512_1041819838076392_8136980598360987070_n.jpg
END:VEVENT
BEGIN:VEVENT
DTSTART;TZID=Europe/Oslo:20250825T190000
DTEND;TZID=Europe/Oslo:20250825T210000
DTSTAMP:20260421T103741
CREATED:20250818T135921Z
LAST-MODIFIED:20250818T135921Z
UID:10000876-1756148400-1756155600@leve.no
SUMMARY:Café LEVE - Gran
DESCRIPTION:Har du mistet noen i selvmord?\nLEVE inviterer til et åpent og uformelt treff der du kan møte andre i lignende situasjon. Uavhengig av om du har mistet en forelder\, søsken\, barn\, øvrige familiemedlemmer\, venner\, kollegaer eller en annen du sto nær så er du velkommen. Du trenger ikke dele noe du ikke vil – det viktigste er at du kommer som du er. \nArrangementet er gratis og åpent for alle – og ta gjerne med en venn eller støtteperson om du ønsker. Enkel servering.\nVelkommen!
URL:https://leve.no/arrangement/cafe-leve-gran-5/
LOCATION:Fontenehuset Hadeland\, Lidskjalvgutua 1\, Gran
ATTACH;FMTTYPE=image/jpeg:https://leve.no/wp-content/uploads/2025/07/514023512_1041819838076392_8136980598360987070_n.jpg
END:VEVENT
BEGIN:VEVENT
DTSTART;TZID=Europe/Oslo:20250526T190000
DTEND;TZID=Europe/Oslo:20250526T210000
DTSTAMP:20260421T103741
CREATED:20250423T113909Z
LAST-MODIFIED:20250423T113909Z
UID:10000677-1748286000-1748293200@leve.no
SUMMARY:Café-kveld - Hadeland
DESCRIPTION:Vi i LEVE kjenner og forstår smerten du står i som etterlatt i den akutte og sjokkartede tiden rett etter hendelsen og fram til begravelsen. Og i de påfølgende dagene\, månedene og årene med sorg og savn etter den du mistet. Vi vet også at noen etterlatte kan oppleve at reaksjonene og smerten kommer først en god stund etter at selvmordet har skjedd. Uansett hvordan din situasjon er så er du alltid velkommen til oss – ta gjerne med deg en venn hvis du føler for det. \nVi ønsker å bruke vår erfaring som etterlatte til støtte og nytte for andre i samme situasjon. Vi har taushetsplikt\, og du kan være trygg på at det du forteller ikke blir fortalt videre. \nHar du spørsmål\, ta kontakt på: \nTelefon: 913 19 834 \nE-post: leveoppland@gmail.com
URL:https://leve.no/arrangement/cafe-kveld-hadeland-3/
LOCATION:Fontenehuset Hadeland\, Lidskjalvgutua 1\, Gran
ATTACH;FMTTYPE=image/png:https://leve.no/wp-content/uploads/2025/01/oppland-1.png
END:VEVENT
BEGIN:VEVENT
DTSTART;TZID=Europe/Oslo:20250430T190000
DTEND;TZID=Europe/Oslo:20250430T210000
DTSTAMP:20260421T103741
CREATED:20250423T113712Z
LAST-MODIFIED:20250423T113713Z
UID:10000676-1746039600-1746046800@leve.no
SUMMARY:AVLYST Café-kveld - Hadeland
DESCRIPTION:Vi i LEVE kjenner og forstår smerten du står i som etterlatt i den akutte og sjokkartede tiden rett etter hendelsen og fram til begravelsen. Og i de påfølgende dagene\, månedene og årene med sorg og savn etter den du mistet. Vi vet også at noen etterlatte kan oppleve at reaksjonene og smerten kommer først en god stund etter at selvmordet har skjedd. Uansett hvordan din situasjon er så er du alltid velkommen til oss – ta gjerne med deg en venn hvis du føler for det. \nVi ønsker å bruke vår erfaring som etterlatte til støtte og nytte for andre i samme situasjon. Vi har taushetsplikt\, og du kan være trygg på at det du forteller ikke blir fortalt videre. \nHar du spørsmål\, ta kontakt på: \nTelefon: 913 19 834 \nE-post: leveoppland@gmail.com
URL:https://leve.no/arrangement/cafe-kveld-hadeland-2/
LOCATION:Fontenehuset Hadeland\, Lidskjalvgutua 1\, Gran
ATTACH;FMTTYPE=image/png:https://leve.no/wp-content/uploads/2025/01/oppland-1.png
END:VEVENT
BEGIN:VEVENT
DTSTART;TZID=Europe/Oslo:20250326T190000
DTEND;TZID=Europe/Oslo:20250326T210000
DTSTAMP:20260421T103741
CREATED:20250109T120026Z
LAST-MODIFIED:20250109T120026Z
UID:10000675-1743015600-1743022800@leve.no
SUMMARY:Café-kveld - Hadeland
DESCRIPTION:Vi i LEVE kjenner og forstår smerten du står i som etterlatt i den akutte og sjokkartede tiden rett etter hendelsen og fram til begravelsen. Og i de påfølgende dagene\, månedene og årene med sorg og savn etter den du mistet. Vi vet også at noen etterlatte kan oppleve at reaksjonene og smerten kommer først en god stund etter at selvmordet har skjedd. Uansett hvordan din situasjon er så er du alltid velkommen til oss – ta gjerne med deg en venn hvis du føler for det. \nVi ønsker å bruke vår erfaring som etterlatte til støtte og nytte for andre i samme situasjon. Vi har taushetsplikt\, og du kan være trygg på at det du forteller ikke blir fortalt videre. \nHar du spørsmål\, ta kontakt på: \nTelefon: 913 19 834 \nE-post: leveoppland@gmail.com
URL:https://leve.no/arrangement/cafe-kveld-hadeland/2025-03-26/
LOCATION:Fontenehuset Hadeland\, Lidskjalvgutua 1\, Gran
ATTACH;FMTTYPE=image/png:https://leve.no/wp-content/uploads/2025/01/oppland-1.png
END:VEVENT
BEGIN:VEVENT
DTSTART;TZID=Europe/Oslo:20250226T190000
DTEND;TZID=Europe/Oslo:20250226T210000
DTSTAMP:20260421T103741
CREATED:20250109T120026Z
LAST-MODIFIED:20250109T120026Z
UID:10000674-1740596400-1740603600@leve.no
SUMMARY:Café-kveld - Hadeland
DESCRIPTION:Vi i LEVE kjenner og forstår smerten du står i som etterlatt i den akutte og sjokkartede tiden rett etter hendelsen og fram til begravelsen. Og i de påfølgende dagene\, månedene og årene med sorg og savn etter den du mistet. Vi vet også at noen etterlatte kan oppleve at reaksjonene og smerten kommer først en god stund etter at selvmordet har skjedd. Uansett hvordan din situasjon er så er du alltid velkommen til oss – ta gjerne med deg en venn hvis du føler for det. \nVi ønsker å bruke vår erfaring som etterlatte til støtte og nytte for andre i samme situasjon. Vi har taushetsplikt\, og du kan være trygg på at det du forteller ikke blir fortalt videre. \nHar du spørsmål\, ta kontakt på: \nTelefon: 913 19 834 \nE-post: leveoppland@gmail.com
URL:https://leve.no/arrangement/cafe-kveld-hadeland/2025-02-26/
LOCATION:Fontenehuset Hadeland\, Lidskjalvgutua 1\, Gran
ATTACH;FMTTYPE=image/png:https://leve.no/wp-content/uploads/2025/01/oppland-1.png
END:VEVENT
BEGIN:VEVENT
DTSTART;TZID=Europe/Oslo:20250129T190000
DTEND;TZID=Europe/Oslo:20250129T210000
DTSTAMP:20260421T103741
CREATED:20250109T120026Z
LAST-MODIFIED:20250109T120026Z
UID:10000673-1738177200-1738184400@leve.no
SUMMARY:Café-kveld - Hadeland
DESCRIPTION:Vi i LEVE kjenner og forstår smerten du står i som etterlatt i den akutte og sjokkartede tiden rett etter hendelsen og fram til begravelsen. Og i de påfølgende dagene\, månedene og årene med sorg og savn etter den du mistet. Vi vet også at noen etterlatte kan oppleve at reaksjonene og smerten kommer først en god stund etter at selvmordet har skjedd. Uansett hvordan din situasjon er så er du alltid velkommen til oss – ta gjerne med deg en venn hvis du føler for det. \nVi ønsker å bruke vår erfaring som etterlatte til støtte og nytte for andre i samme situasjon. Vi har taushetsplikt\, og du kan være trygg på at det du forteller ikke blir fortalt videre. \nHar du spørsmål\, ta kontakt på: \nTelefon: 913 19 834 \nE-post: leveoppland@gmail.com
URL:https://leve.no/arrangement/cafe-kveld-hadeland/2025-01-29/
LOCATION:Fontenehuset Hadeland\, Lidskjalvgutua 1\, Gran
ATTACH;FMTTYPE=image/png:https://leve.no/wp-content/uploads/2025/01/oppland-1.png
END:VEVENT
BEGIN:VEVENT
DTSTART;TZID=Europe/Oslo:20241126T190000
DTEND;TZID=Europe/Oslo:20241126T210000
DTSTAMP:20260421T103741
CREATED:20240813T120817Z
LAST-MODIFIED:20240813T120817Z
UID:10000569-1732647600-1732654800@leve.no
SUMMARY:Café LEVE Gran
DESCRIPTION:Vi møtes siste tirsdag i måneden.
URL:https://leve.no/arrangement/cafe-leve-gran-4/
LOCATION:Fontenehuset Hadeland\, Lidskjalvgutua 1\, Gran
ATTACH;FMTTYPE=image/jpeg:https://leve.no/wp-content/uploads/2024/02/priscilla-du-preez-k8xygbw4ahg-unsplash.jpg
END:VEVENT
BEGIN:VEVENT
DTSTART;TZID=Europe/Oslo:20241029T190000
DTEND;TZID=Europe/Oslo:20241029T210000
DTSTAMP:20260421T103741
CREATED:20240813T120758Z
LAST-MODIFIED:20240813T120758Z
UID:10000568-1730228400-1730235600@leve.no
SUMMARY:Café LEVE Gran
DESCRIPTION:Vi møtes siste tirsdag i måneden.
URL:https://leve.no/arrangement/cafe-leve-gran-3/
LOCATION:Fontenehuset Hadeland\, Lidskjalvgutua 1\, Gran
ATTACH;FMTTYPE=image/jpeg:https://leve.no/wp-content/uploads/2024/02/priscilla-du-preez-k8xygbw4ahg-unsplash.jpg
END:VEVENT
BEGIN:VEVENT
DTSTART;TZID=Europe/Oslo:20240924T190000
DTEND;TZID=Europe/Oslo:20240924T210000
DTSTAMP:20260421T103741
CREATED:20240813T120729Z
LAST-MODIFIED:20240813T120729Z
UID:10000567-1727204400-1727211600@leve.no
SUMMARY:Café LEVE Gran
DESCRIPTION:Vi møtes siste tirsdag i måneden.
URL:https://leve.no/arrangement/cafe-leve-gran-2/
LOCATION:Fontenehuset Hadeland\, Lidskjalvgutua 1\, Gran
ATTACH;FMTTYPE=image/jpeg:https://leve.no/wp-content/uploads/2024/02/priscilla-du-preez-k8xygbw4ahg-unsplash.jpg
END:VEVENT
BEGIN:VEVENT
DTSTART;TZID=Europe/Oslo:20240827T190000
DTEND;TZID=Europe/Oslo:20240827T210000
DTSTAMP:20260421T103741
CREATED:20240813T120647Z
LAST-MODIFIED:20240813T120833Z
UID:10000566-1724785200-1724792400@leve.no
SUMMARY:Café LEVE Gran
DESCRIPTION:Vi møtes siste tirsdag i måneden.
URL:https://leve.no/arrangement/cafe-leve-gran/
LOCATION:Fontenehuset Hadeland\, Lidskjalvgutua 1\, Gran
ATTACH;FMTTYPE=image/jpeg:https://leve.no/wp-content/uploads/2024/02/priscilla-du-preez-k8xygbw4ahg-unsplash.jpg
END:VEVENT
END:VCALENDAR