
BEGIN:VCALENDAR
VERSION:2.0
PRODID:-//LEVE - ECPv6.15.17.1//NONSGML v1.0//EN
CALSCALE:GREGORIAN
METHOD:PUBLISH
X-ORIGINAL-URL:https://leve.no
X-WR-CALDESC:Arrangement for LEVE
REFRESH-INTERVAL;VALUE=DURATION:PT1H
X-Robots-Tag:noindex
X-PUBLISHED-TTL:PT1H
BEGIN:VTIMEZONE
TZID:Europe/Oslo
BEGIN:DAYLIGHT
TZOFFSETFROM:+0100
TZOFFSETTO:+0200
TZNAME:CEST
DTSTART:20230326T010000
END:DAYLIGHT
BEGIN:STANDARD
TZOFFSETFROM:+0200
TZOFFSETTO:+0100
TZNAME:CET
DTSTART:20231029T010000
END:STANDARD
BEGIN:DAYLIGHT
TZOFFSETFROM:+0100
TZOFFSETTO:+0200
TZNAME:CEST
DTSTART:20240331T010000
END:DAYLIGHT
BEGIN:STANDARD
TZOFFSETFROM:+0200
TZOFFSETTO:+0100
TZNAME:CET
DTSTART:20241027T010000
END:STANDARD
BEGIN:DAYLIGHT
TZOFFSETFROM:+0100
TZOFFSETTO:+0200
TZNAME:CEST
DTSTART:20250330T010000
END:DAYLIGHT
BEGIN:STANDARD
TZOFFSETFROM:+0200
TZOFFSETTO:+0100
TZNAME:CET
DTSTART:20251026T010000
END:STANDARD
END:VTIMEZONE
BEGIN:VEVENT
DTSTART;TZID=Europe/Oslo:20241113T183000
DTEND;TZID=Europe/Oslo:20241113T203000
DTSTAMP:20260421T153754
CREATED:20240813T120100Z
LAST-MODIFIED:20241112T105033Z
UID:10000562-1731522600-1731529800@leve.no
SUMMARY:Café LEVE Fagernes - AVLYST
DESCRIPTION:Vi møtes andre onsdag i måneden. \nAlle er velkomne til et fellesskap. Ta gjerne med en venn. Om du ikke ønsker å prate om ditt tap\, er det også helt greit. Det er helt opp til deg. Du er velkommen som du er. Vi har taushetsplikt.
URL:https://leve.no/arrangement/cafe-leve-fagernes-6/
LOCATION:Frivillighetsentralen Vikatunet\, Valdresvegen 45 E\, Fagernes
ATTACH;FMTTYPE=image/jpeg:https://leve.no/wp-content/uploads/2024/02/priscilla-du-preez-k8xygbw4ahg-unsplash.jpg
END:VEVENT
BEGIN:VEVENT
DTSTART;TZID=Europe/Oslo:20241009T183000
DTEND;TZID=Europe/Oslo:20241009T203000
DTSTAMP:20260421T153754
CREATED:20240813T120016Z
LAST-MODIFIED:20240813T120016Z
UID:10000561-1728498600-1728505800@leve.no
SUMMARY:Café LEVE Fagernes
DESCRIPTION:Vi møtes andre onsdag i måneden.
URL:https://leve.no/arrangement/cafe-leve-fagernes-5/
LOCATION:Frivillighetsentralen Vikatunet\, Valdresvegen 45 E\, Fagernes
ATTACH;FMTTYPE=image/jpeg:https://leve.no/wp-content/uploads/2024/02/priscilla-du-preez-k8xygbw4ahg-unsplash.jpg
END:VEVENT
BEGIN:VEVENT
DTSTART;TZID=Europe/Oslo:20240911T183000
DTEND;TZID=Europe/Oslo:20240911T203000
DTSTAMP:20260421T153754
CREATED:20240813T115948Z
LAST-MODIFIED:20240813T115948Z
UID:10000560-1726079400-1726086600@leve.no
SUMMARY:Café LEVE Fagernes
DESCRIPTION:Vi møtes andre onsdag i måneden.
URL:https://leve.no/arrangement/cafe-leve-fagernes-4/
LOCATION:Frivillighetsentralen Vikatunet\, Valdresvegen 45 E\, Fagernes
ATTACH;FMTTYPE=image/jpeg:https://leve.no/wp-content/uploads/2024/02/priscilla-du-preez-k8xygbw4ahg-unsplash.jpg
END:VEVENT
BEGIN:VEVENT
DTSTART;TZID=Europe/Oslo:20240814T183000
DTEND;TZID=Europe/Oslo:20240814T203000
DTSTAMP:20260421T153754
CREATED:20240813T115925Z
LAST-MODIFIED:20240813T115925Z
UID:10000559-1723660200-1723667400@leve.no
SUMMARY:Café LEVE Fagernes
DESCRIPTION:Vi møtes andre onsdag i måneden.
URL:https://leve.no/arrangement/cafe-leve-fagernes-3/
LOCATION:Frivillighetsentralen Vikatunet\, Valdresvegen 45 E\, Fagernes
ATTACH;FMTTYPE=image/jpeg:https://leve.no/wp-content/uploads/2024/02/priscilla-du-preez-k8xygbw4ahg-unsplash.jpg
END:VEVENT
BEGIN:VEVENT
DTSTART;TZID=Europe/Oslo:20240515T183000
DTEND;TZID=Europe/Oslo:20240515T203000
DTSTAMP:20260421T153754
CREATED:20240426T102858Z
LAST-MODIFIED:20240429T103653Z
UID:10000516-1715797800-1715805000@leve.no
SUMMARY:Café LEVE Fagernes: Livet ble ikke slik du tenkte - den vanskelige sorgen når en kjær tok sitt eget liv
DESCRIPTION:Etter en innledning om temaet inviterer vi til åpen samtale hvor den som ønsker kan dele sine tanker og erfaringer. \nVi håper du som etterlatt familie eller venn finner tid til å bli med oss. Alle er varmt velkommen.
URL:https://leve.no/arrangement/livet-ble-ikke-slik-du-tenkte-den-vanskelige-sorgen-nar-en-kjaer-tok-sitt-eget-liv/
LOCATION:Frivillighetsentralen Vikatunet\, Valdresvegen 45 E\, Fagernes
ATTACH;FMTTYPE=image/jpeg:https://leve.no/wp-content/uploads/2023/11/bilde-hjemmeside-2.jpg
END:VEVENT
BEGIN:VEVENT
DTSTART;TZID=Europe/Oslo:20240410T183000
DTEND;TZID=Europe/Oslo:20240410T203000
DTSTAMP:20260421T153754
CREATED:20240305T102426Z
LAST-MODIFIED:20240305T102426Z
UID:10000360-1712773800-1712781000@leve.no
SUMMARY:Café LEVE Fagernes
DESCRIPTION:Vi møtes andre onsdag i måneden.
URL:https://leve.no/arrangement/cafe-leve-fagernes-2/
LOCATION:Frivillighetsentralen Vikatunet\, Valdresvegen 45 E\, Fagernes
ATTACH;FMTTYPE=image/jpeg:https://leve.no/wp-content/uploads/2024/02/priscilla-du-preez-k8xygbw4ahg-unsplash.jpg
END:VEVENT
BEGIN:VEVENT
DTSTART;TZID=Europe/Oslo:20240313T183000
DTEND;TZID=Europe/Oslo:20240313T203000
DTSTAMP:20260421T153754
CREATED:20240305T102307Z
LAST-MODIFIED:20240305T102307Z
UID:10000359-1710354600-1710361800@leve.no
SUMMARY:Café LEVE Fagernes
DESCRIPTION:Vi møtes andre onsdag i måneden.
URL:https://leve.no/arrangement/cafe-leve-fagernes/
LOCATION:Frivillighetsentralen Vikatunet\, Valdresvegen 45 E\, Fagernes
ATTACH;FMTTYPE=image/jpeg:https://leve.no/wp-content/uploads/2024/02/priscilla-du-preez-k8xygbw4ahg-unsplash.jpg
END:VEVENT
END:VCALENDAR