
BEGIN:VCALENDAR
VERSION:2.0
PRODID:-//LEVE - ECPv6.15.17.1//NONSGML v1.0//EN
CALSCALE:GREGORIAN
METHOD:PUBLISH
X-WR-CALNAME:LEVE
X-ORIGINAL-URL:https://leve.no
X-WR-CALDESC:Arrangement for LEVE
REFRESH-INTERVAL;VALUE=DURATION:PT1H
X-Robots-Tag:noindex
X-PUBLISHED-TTL:PT1H
BEGIN:VTIMEZONE
TZID:Europe/Oslo
BEGIN:DAYLIGHT
TZOFFSETFROM:+0100
TZOFFSETTO:+0200
TZNAME:CEST
DTSTART:20240331T010000
END:DAYLIGHT
BEGIN:STANDARD
TZOFFSETFROM:+0200
TZOFFSETTO:+0100
TZNAME:CET
DTSTART:20241027T010000
END:STANDARD
BEGIN:DAYLIGHT
TZOFFSETFROM:+0100
TZOFFSETTO:+0200
TZNAME:CEST
DTSTART:20250330T010000
END:DAYLIGHT
BEGIN:STANDARD
TZOFFSETFROM:+0200
TZOFFSETTO:+0100
TZNAME:CET
DTSTART:20251026T010000
END:STANDARD
BEGIN:DAYLIGHT
TZOFFSETFROM:+0100
TZOFFSETTO:+0200
TZNAME:CEST
DTSTART:20260329T010000
END:DAYLIGHT
BEGIN:STANDARD
TZOFFSETFROM:+0200
TZOFFSETTO:+0100
TZNAME:CET
DTSTART:20261025T010000
END:STANDARD
END:VTIMEZONE
BEGIN:VEVENT
DTSTART;TZID=Europe/Oslo:20250114T180000
DTEND;TZID=Europe/Oslo:20250318T200000
DTSTAMP:20260424T144513
CREATED:20241121T092623Z
LAST-MODIFIED:20241121T092828Z
UID:10000631-1736877600-1742328000@leve.no
SUMMARY:Skrivegruppe for etterlatte
DESCRIPTION:Hilde Kvalvaag har jobbet som forfatter i mange år og har utgitt flere bøker. I tillegg har hun vunnet flere priser for sin litteratur. \nHun er utdannet sosialantropolog og kunst og uttrykksterapeut. \nKvalvaag jobber i tillegg til sitt forfatterskap med kunstterapi for unge og voksne med psykose-lidelse\, med hovedfokus på (om)skriving av livshistorien. \nDa forfatter Hilde Kvalvaag mistet sønnen sin\, Victor\, i 2018\, trodde hun først at hun aldri skulle skrive igjen. Men en lang tekst om Victor og sorgen\, Djuphavsslettene\, sprengte seg frem og ble for henne en måte å overleve. \nOver en gang pr uke\, 10 tirsdager\, med oppstart 14 januar 2025 vil Kvalvaag holde en skrivegruppe for etterlatte\, der målet er å skrive seg frem til en mer sammenhengende historie om tapet man har opplevd\, men også finne en fastere grunn for hvem man er nå. \nKvalvaag vil bruke egne erfaringer med skriving og som etterlatt\, og det kreves ingen skriveerfaring fra deltagerne. \nVi må\, fordi kurset har begrenset antall plasser\, praktisere først til mølla-prinsippet. Vi er allerede begynt å få påmeldinger. \nSted: Manufakturhuset i Bergen\, Peter Motzfeldts gate 2 \nTid: Tirsdager kl 18:00 til 20:00 \nPris: kr 200 \nPåmelding til gro.bernstrom@gmail.com
URL:https://leve.no/arrangement/skrivegruppe-for-etterlatte/
LOCATION:Manufakturhuset i Bergen\, Peter Motzfeldts gate 2\, Bergen\, 5016
ATTACH;FMTTYPE=image/jpeg:https://leve.no/wp-content/uploads/2024/11/unseen-studio-s9cc2skysjm-unsplash-1.jpg
END:VEVENT
END:VCALENDAR