
BEGIN:VCALENDAR
VERSION:2.0
PRODID:-//LEVE - ECPv6.15.17.1//NONSGML v1.0//EN
CALSCALE:GREGORIAN
METHOD:PUBLISH
X-ORIGINAL-URL:https://leve.no
X-WR-CALDESC:Arrangement for LEVE
REFRESH-INTERVAL;VALUE=DURATION:PT1H
X-Robots-Tag:noindex
X-PUBLISHED-TTL:PT1H
BEGIN:VTIMEZONE
TZID:Europe/Oslo
BEGIN:DAYLIGHT
TZOFFSETFROM:+0100
TZOFFSETTO:+0200
TZNAME:CEST
DTSTART:20240331T010000
END:DAYLIGHT
BEGIN:STANDARD
TZOFFSETFROM:+0200
TZOFFSETTO:+0100
TZNAME:CET
DTSTART:20241027T010000
END:STANDARD
BEGIN:DAYLIGHT
TZOFFSETFROM:+0100
TZOFFSETTO:+0200
TZNAME:CEST
DTSTART:20250330T010000
END:DAYLIGHT
BEGIN:STANDARD
TZOFFSETFROM:+0200
TZOFFSETTO:+0100
TZNAME:CET
DTSTART:20251026T010000
END:STANDARD
BEGIN:DAYLIGHT
TZOFFSETFROM:+0100
TZOFFSETTO:+0200
TZNAME:CEST
DTSTART:20260329T010000
END:DAYLIGHT
BEGIN:STANDARD
TZOFFSETFROM:+0200
TZOFFSETTO:+0100
TZNAME:CET
DTSTART:20261025T010000
END:STANDARD
END:VTIMEZONE
BEGIN:VEVENT
DTSTART;TZID=Europe/Oslo:20250702T170000
DTEND;TZID=Europe/Oslo:20250702T190000
DTSTAMP:20260424T181835
CREATED:20250630T082338Z
LAST-MODIFIED:20250630T082338Z
UID:10000838-1751475600-1751482800@leve.no
SUMMARY:Sommeråpen møteplass for ungdom
DESCRIPTION:Vi vet at tanker og følelser ikke tar ferie.\nAt det til og med kan bli mye mer og enda vanskeligere å bære på en sorg når hverdagen med vanlige rutiner blir borte.\nMen vi vet også at du ikke er alene om disse tankene og følelsene. At det kan være nyttig å være sammen med andre som har lignende opplevelser og erfaringer som deg.\nOg at i fellesskap kan vi finne håp sammen \nDerfor har Unge LEVE Hedmark og P-huset åpent hver onsdag i sommerferien for ungdom som trenger et pusterom i sin sommer hverdag sin.\nHer kan du komme å være. Vær akkurat den du er.\nDet er rom for å slå av en prat\, spille et spill\, lese en bok\, tegne\, spise litt snop\, snakke med plantene eller bare sitte sammen. men på hver sin telefon.\nDu kan komme alene eller ta med deg en venn eller naboen. \n\nHvem er det for? Alle mellom 10-24 år\nNår er det? Hver onsdag i sommerferien fra 17.00-19.00.\nHvordan kommer jeg med dit? Ta bussen – Innlandet trafikk har en sommerkampanje med billetter for bare 10 kr i HELE Innlandet.\nGåtur fra bussholdeplassen i Moelv er ca.2 min.\n\n\nVelkommen til sommer med oss!\nHar du spørsmål? Ta kontakt med prosjektleder for sommeråpen møteplass for ungdom:\nTone Therese Haugen\nmobil: 95215957\nSnap: oslofroet
URL:https://leve.no/arrangement/sommerapen-moteplass-for-ungdom/
LOCATION:P-Huset\, Storgata 105\, Moelv\, 2390
ATTACH;FMTTYPE=image/jpeg:https://leve.no/wp-content/uploads/2025/06/513862895_1039183215006721_340999822404359628_n.jpg
END:VEVENT
BEGIN:VEVENT
DTSTART;TZID=Europe/Oslo:20250702T130000
DTEND;TZID=Europe/Oslo:20250702T160000
DTSTAMP:20260424T181835
CREATED:20250630T084605Z
LAST-MODIFIED:20250630T113015Z
UID:10000846-1751461200-1751472000@leve.no
SUMMARY:Sommeråpent fellesskap
DESCRIPTION:Hver onsdag i sommerferien holder derfor LEVE Hedmark og P-huset Innlandet dørene åpne for alle som trenger et pusterom i sin sommer hverdag.\nHer kan du komme å være. Vær den du er.\nDet er rom for å slå av en prat\, ta en kaffe/te\, spille et spill\, lese en bok\, snakke med plantene eller bare sitte stille sammen.\nDu kan komme alene eller ta med familie\, venner eller naboen. Alle er velkommen til oss. \n\nHvordan komme seg dit? Innlandet trafikk har sommer kampanje med billetter for bare\n10\,- i HELE innlandet. Gåtur fra bussholdeplassen i Moelv er ca 2 min.\nNår er det åpent? 13.00-16.00\, alle onsdager i sommerferien.\n\nVelkommen til sommer med oss!\nHar du noen spørsmål? Ta kontakt med prosjektleder og fylkeslagsleder i LEVE Hedmark\nTone Therese Haugen\nmobil: 95215957
URL:https://leve.no/arrangement/sommerapent-fellesskap/
LOCATION:P-Huset\, Storgata 105\, Moelv\, 2390
ATTACH;FMTTYPE=image/jpeg:https://leve.no/wp-content/uploads/2025/06/511955160_1039163748342001_1246698117877284248_n.jpg
END:VEVENT
END:VCALENDAR