
BEGIN:VCALENDAR
VERSION:2.0
PRODID:-//LEVE - ECPv6.15.17.1//NONSGML v1.0//EN
CALSCALE:GREGORIAN
METHOD:PUBLISH
X-ORIGINAL-URL:https://leve.no
X-WR-CALDESC:Arrangement for LEVE
REFRESH-INTERVAL;VALUE=DURATION:PT1H
X-Robots-Tag:noindex
X-PUBLISHED-TTL:PT1H
BEGIN:VTIMEZONE
TZID:Europe/Oslo
BEGIN:DAYLIGHT
TZOFFSETFROM:+0100
TZOFFSETTO:+0200
TZNAME:CEST
DTSTART:20240331T010000
END:DAYLIGHT
BEGIN:STANDARD
TZOFFSETFROM:+0200
TZOFFSETTO:+0100
TZNAME:CET
DTSTART:20241027T010000
END:STANDARD
BEGIN:DAYLIGHT
TZOFFSETFROM:+0100
TZOFFSETTO:+0200
TZNAME:CEST
DTSTART:20250330T010000
END:DAYLIGHT
BEGIN:STANDARD
TZOFFSETFROM:+0200
TZOFFSETTO:+0100
TZNAME:CET
DTSTART:20251026T010000
END:STANDARD
BEGIN:DAYLIGHT
TZOFFSETFROM:+0100
TZOFFSETTO:+0200
TZNAME:CEST
DTSTART:20260329T010000
END:DAYLIGHT
BEGIN:STANDARD
TZOFFSETFROM:+0200
TZOFFSETTO:+0100
TZNAME:CET
DTSTART:20261025T010000
END:STANDARD
END:VTIMEZONE
BEGIN:VEVENT
DTSTART;TZID=Europe/Oslo:20250621T170000
DTEND;TZID=Europe/Oslo:20250621T190000
DTSTAMP:20260420T181848
CREATED:20250514T074644Z
LAST-MODIFIED:20250514T122336Z
UID:10000800-1750525200-1750532400@leve.no
SUMMARY:Løp for å LEVE under Midnight Sun Marathon i Tromsø
DESCRIPTION:Løp for å LEVE sammen med laget vårt LEVE Troms under Midnight Sun Marathon. \nVi løper for: \n\nde vi savner\nde som kjemper\nå vise at vi bryr oss\nat vi står sammen\n\nVi har ingen flere å miste \n  \n\nSlik blir du med på laget vårt:\nVelg distanse og meld deg på via Midnight Sun Marathon sine nettsider. Husk å skriv inn laget vårt “LEVE Troms”. Du kan springe den distansen du ønsker selv. Men vi kommer til å ha møtepunkt og heie på hverandre på følgende distanser:\n\n\n5 km iTromsø minimaraton https://msm.no/…/itromso-minimaraton-june-21st-2025/\n10 km Coop Mila https://msm.no/en/product/coop-mila-june-21st-2025/\n\n  \nVær rask og meld deg på før det blir fullt. Husk å skriv inn laget vårt “LEVE Troms”.\n\n  \nHar du allerede meldt deg på?\nBruk dette skjemaet\, så kan vi registrere deg inn på vårt lag: https://forms.gle/theFuyxdz9iLZxxB7\n\n\nT-skjorter\nØnsker du noe å løpe i\, kan du forhåndsbestille vår “Løp for å LEVE” t-skjorte. Vipps 300 kr til #774781 og oppgi ønsket størrelse (S\, M\, L eller XL). T-skjortene er unisex\, i teknisk kvalitet og normal på størrelsen. Selges så lenge lageret rekker.
URL:https://leve.no/arrangement/lop-for-a-leve-under-midnight-sun-marathon-i-tromso/
LOCATION:Prostneset\, Tromsø\, Kaigata 6\, Tromsø\, 9008
ATTACH;FMTTYPE=image/jpeg:https://leve.no/wp-content/uploads/2025/05/495952202_1010673954485774_6550698524022818008_n.jpg
END:VEVENT
END:VCALENDAR