
BEGIN:VCALENDAR
VERSION:2.0
PRODID:-//LEVE - ECPv6.15.17.1//NONSGML v1.0//EN
CALSCALE:GREGORIAN
METHOD:PUBLISH
X-ORIGINAL-URL:https://leve.no
X-WR-CALDESC:Arrangement for LEVE
REFRESH-INTERVAL;VALUE=DURATION:PT1H
X-Robots-Tag:noindex
X-PUBLISHED-TTL:PT1H
BEGIN:VTIMEZONE
TZID:Europe/Oslo
BEGIN:DAYLIGHT
TZOFFSETFROM:+0100
TZOFFSETTO:+0200
TZNAME:CEST
DTSTART:20250330T010000
END:DAYLIGHT
BEGIN:STANDARD
TZOFFSETFROM:+0200
TZOFFSETTO:+0100
TZNAME:CET
DTSTART:20251026T010000
END:STANDARD
BEGIN:DAYLIGHT
TZOFFSETFROM:+0100
TZOFFSETTO:+0200
TZNAME:CEST
DTSTART:20260329T010000
END:DAYLIGHT
BEGIN:STANDARD
TZOFFSETFROM:+0200
TZOFFSETTO:+0100
TZNAME:CET
DTSTART:20261025T010000
END:STANDARD
BEGIN:DAYLIGHT
TZOFFSETFROM:+0100
TZOFFSETTO:+0200
TZNAME:CEST
DTSTART:20270328T010000
END:DAYLIGHT
BEGIN:STANDARD
TZOFFSETFROM:+0200
TZOFFSETTO:+0100
TZNAME:CET
DTSTART:20271031T010000
END:STANDARD
END:VTIMEZONE
BEGIN:VEVENT
DTSTART;TZID=Europe/Oslo:20260225T160000
DTEND;TZID=Europe/Oslo:20260225T173000
DTSTAMP:20260420T125958
CREATED:20260210T125259Z
LAST-MODIFIED:20260210T125259Z
UID:10001258-1772035200-1772040600@leve.no
SUMMARY:Årsmøte - LEVE Nordland
DESCRIPTION:LEVE Nordland ønsker våre medlemmer velkommen til årsmøtet onsdag 25 februar kl 1600 til 1730.\n\nFrist for å melde inn saker til årsmøtet er 18 februar. Saksliste og årsmelding vil bli sendt ut til medlemmene.\nKl 1800 inviterer vi til foredrag med Anne Silviken\, se eget arrangement for mer informasjon.\n\nHjertelig velkommen
URL:https://leve.no/arrangement/arsmote-leve-nordland/
LOCATION:Storgata 34\, Storgata 34\, Bodø\, 8006
ATTACH;FMTTYPE=image/svg+xml:https://leve.no/wp-content/uploads/2025/12/leve-for-alle-berorte-av-selvmord-farger.svg
END:VEVENT
END:VCALENDAR