
BEGIN:VCALENDAR
VERSION:2.0
PRODID:-//LEVE - ECPv6.15.17.1//NONSGML v1.0//EN
CALSCALE:GREGORIAN
METHOD:PUBLISH
X-WR-CALNAME:LEVE
X-ORIGINAL-URL:https://leve.no
X-WR-CALDESC:Arrangement for LEVE
REFRESH-INTERVAL;VALUE=DURATION:PT1H
X-Robots-Tag:noindex
X-PUBLISHED-TTL:PT1H
BEGIN:VTIMEZONE
TZID:Europe/Oslo
BEGIN:DAYLIGHT
TZOFFSETFROM:+0100
TZOFFSETTO:+0200
TZNAME:CEST
DTSTART:20230326T010000
END:DAYLIGHT
BEGIN:STANDARD
TZOFFSETFROM:+0200
TZOFFSETTO:+0100
TZNAME:CET
DTSTART:20231029T010000
END:STANDARD
BEGIN:DAYLIGHT
TZOFFSETFROM:+0100
TZOFFSETTO:+0200
TZNAME:CEST
DTSTART:20240331T010000
END:DAYLIGHT
BEGIN:STANDARD
TZOFFSETFROM:+0200
TZOFFSETTO:+0100
TZNAME:CET
DTSTART:20241027T010000
END:STANDARD
BEGIN:DAYLIGHT
TZOFFSETFROM:+0100
TZOFFSETTO:+0200
TZNAME:CEST
DTSTART:20250330T010000
END:DAYLIGHT
BEGIN:STANDARD
TZOFFSETFROM:+0200
TZOFFSETTO:+0100
TZNAME:CET
DTSTART:20251026T010000
END:STANDARD
END:VTIMEZONE
BEGIN:VEVENT
DTSTART;TZID=Europe/Oslo:20240910T180000
DTEND;TZID=Europe/Oslo:20240910T180000
DTSTAMP:20260423T094129
CREATED:20240819T112441Z
LAST-MODIFIED:20240819T112602Z
UID:10000578-1725991200-1725991200@leve.no
SUMMARY:Vi markerer verdensdagen for selvmordsforebygging
DESCRIPTION:Vi vil snakke om skeives levekår\, psykiske helse og livskvalitet og hvordan vi sammen kan styrke psykisk helse. \nÅpent arrangement.
URL:https://leve.no/arrangement/vi-markerer-verdensdagen-for-selvmordsforebygging/
LOCATION:Trosvikstranda 9\, Fredrikstad
ATTACH;FMTTYPE=image/png:https://leve.no/wp-content/uploads/2024/08/1.png
END:VEVENT
END:VCALENDAR